BEGIN:VCALENDAR
PRODID:-//www.hollylodge.kite.academy//EN
VERSION:2.0
METHOD:PUBLISH
BEGIN:VEVENT
DTSTART;TZID=Europe/London:20230223T
DTEND;TZID=Europe/London:20230223T
URL:https://www.hollylodge.kite.academy/news-and-events/calendar/y2-sats-parent-information-meeting-2-30pm/
SUMMARY:Y2 SATS Parent Information Meeting 2.30pm
END:VEVENT
END:VCALENDAR